BEGIN:VCALENDAR
VERSION:2.0
PRODID:-//Grillakademie Saar - ECPv6.15.20//NONSGML v1.0//EN
CALSCALE:GREGORIAN
METHOD:PUBLISH
X-WR-CALNAME:Grillakademie Saar
X-ORIGINAL-URL:https://grillwelt-saar.de
X-WR-CALDESC:Veranstaltungen für Grillakademie Saar
REFRESH-INTERVAL;VALUE=DURATION:PT1H
X-Robots-Tag:noindex
X-PUBLISHED-TTL:PT1H
BEGIN:VTIMEZONE
TZID:Europe/Paris
BEGIN:DAYLIGHT
TZOFFSETFROM:+0100
TZOFFSETTO:+0200
TZNAME:CEST
DTSTART:20250330T010000
END:DAYLIGHT
BEGIN:STANDARD
TZOFFSETFROM:+0200
TZOFFSETTO:+0100
TZNAME:CET
DTSTART:20251026T010000
END:STANDARD
BEGIN:DAYLIGHT
TZOFFSETFROM:+0100
TZOFFSETTO:+0200
TZNAME:CEST
DTSTART:20260329T010000
END:DAYLIGHT
BEGIN:STANDARD
TZOFFSETFROM:+0200
TZOFFSETTO:+0100
TZNAME:CET
DTSTART:20261025T010000
END:STANDARD
BEGIN:DAYLIGHT
TZOFFSETFROM:+0100
TZOFFSETTO:+0200
TZNAME:CEST
DTSTART:20270328T010000
END:DAYLIGHT
BEGIN:STANDARD
TZOFFSETFROM:+0200
TZOFFSETTO:+0100
TZNAME:CET
DTSTART:20271031T010000
END:STANDARD
END:VTIMEZONE
BEGIN:VEVENT
DTSTART;TZID=Europe/Paris:20260423T180000
DTEND;TZID=Europe/Paris:20260423T223000
DTSTAMP:20260423T015648
CREATED:20251127T141705Z
LAST-MODIFIED:20260126T160223Z
UID:10000945-1776967200-1776983400@grillwelt-saar.de
SUMMARY:Grillkurs Burger & Co - Mehr als nur Bulettenbrötchen
DESCRIPTION:Es erwartet Sie bei diesem Grill-Kurs in der Grillakademie Saar in Saarlouis 4 verschiedene Burger wie bspw.: \n\nLachs Burger – mit Meerrettich-Senf Sauce und Rucola-Salat\nLamm Burger\nSaar-Burger mit Zwiebelmarmelade\nDer Klassiker Viertelpfünder – Rindfleisch satt !\n\nBBQ- Sauce – vom heimischen Herd oder Grill\nBurger Buns – Das perfekte Burger-Brötchen selbstgemacht\n\nIn der Kursgebühr sind enthalten: \n\nWelcome Aperitif mit einem Amuse-Grill\nLebensmittel\nGetränke während der Kursdauer: Mineralwasser\, Softdrinks\, Bier\, Rosé\, Weisswein\, Rotwein\, Espresso\, Kaffee\nRezeptsammlung\n\nBuchen
URL:https://grillwelt-saar.de/termine/grillkurs-burger-co-mehr-als-nur-bulettenbroetchen_23042026/
LOCATION:Holtzendorffer Str. 6\, Saarlouis\, Saarland\, 66740\, Deutschland
CATEGORIES:Burger,Steaks & Co Grillkurs
ATTACH;FMTTYPE=image/jpeg:https://grillwelt-saar.de/wp-content/uploads/2026/01/burger-grillkurs.jpg
END:VEVENT
END:VCALENDAR